BEGIN:VCALENDAR
VERSION:2.0
PRODID:-//ChamberMaster//Event Calendar 2.0//EN
METHOD:PUBLISH
X-PUBLISHED-TTL:P1H
REFRESH-INTERVAL:P1H
CALSCALE:GREGORIAN
BEGIN:VTIMEZONE
TZID:America/New_York
BEGIN:DAYLIGHT
RRULE:FREQ=YEARLY;BYMONTH=3;BYDAY=2SU
DTSTART:20070101T000000
TZOFFSETFROM:-0500
TZOFFSETTO:-0400
TZNAME:Eastern Daylight Time
END:DAYLIGHT
BEGIN:STANDARD
RRULE:FREQ=YEARLY;BYMONTH=11;BYDAY=1SU
DTSTART:20070101T000000
TZOFFSETFROM:-0400
TZOFFSETTO:-0500
TZNAME:Eastern Standard Time
END:STANDARD
END:VTIMEZONE
BEGIN:VEVENT
DTSTART;TZID=America/New_York:20260528T173000
DTEND;TZID=America/New_York:20260528T203000
X-MICROSOFT-CDO-ALLDAYEVENT:FALSE
SUMMARY:Teresa's Retirement Party
DESCRIPTION:Teresa has spent decades managing our board and championing our Realtors. Now\, it is time for us to gather and celebrate her. Please join the Board of Directors\, past presidents\, and friends for an evening of drinks\, hors d'oeuvres\, and toasts as we honor a career that opened doors for us all and send Teresa off to a very well-deserved retirement!
X-ALT-DESC;FMTTYPE=text/html:<!DOCTYPE html><html><head><title></title></head><body aria-disabled="false"><p><span style="color: rgb(0\, 0\, 0)\;">Teresa has spent decades managing our board and championing our Realtors. Now\, it is time for us to gather and celebrate her. Please join the Board of Directors\, past presidents\, and friends for an evening of drinks\, hors d&rsquo\;oeuvres\, and toasts as we honor a career that opened doors for us all and send Teresa off to a very well-deserved retirement!</span></p></body></html>
LOCATION:1527 N Lakeshore Drive Ludington MI 49431
UID:e.2581.1449937
SEQUENCE:3
DTSTAMP:20260424T023937Z
URL:https://members.momboard.com/event-calendar/Details/teresa-s-retirement-party-1717507?sourceTypeId=Hub
END:VEVENT
END:VCALENDAR
